BEGIN:VCALENDAR
VERSION:2.0
CALSCALE:GREGORIAN
METHOD:PUBLISH
PRODID://ECCL//424320
BEGIN:VEVENT
DTSTAMP:20260420T050305
VTIMEZONE:America/New_York
DTSTART:20250920T120000Z
DTEND:20250920T200000Z
UID:424320
SUMMARY:Revere's Riders CAP Rifle (1-Day)
LOCATION:
DESCRIPTION:Revere's Riders CAP Rifle (1-Day)\n\n09/20/25 08:00 AM EST\n - 09/20/25 04:00 PM EST\Description:\nDetails and Registration to come.\n\nEvent will be held on West Range Bay (near Steel Range Bay)\n\nMembers Free\nNon-members $10.00
X-ALT-DESC;FMTTYPE=text/html:Revere's Riders CAP Rifle (1-Day)<br /><br />09/20/25 08:00 AM EST - 09/20/25 04:00 PM EST<br />Description:<br />Details and Registration to come.<br />
<br />
Event will be held on West Range Bay (near Steel Range Bay)<br />
<br />
Members Free<br />
Non-members $10.00
PRIORITY:3
TRANSP:TRANSPARENT
BEGIN:VALARM
TRIGGER:-PT5M
ACTION:DISPLAY
DESCRIPTION:Reminder
END:VALARM
END:VEVENT
END:VCALENDAR
